BEGIN:VCALENDAR
VERSION:2.0
PRODID:-//Floodplains by Design - ECPv6.15.20//NONSGML v1.0//EN
CALSCALE:GREGORIAN
METHOD:PUBLISH
X-ORIGINAL-URL:https://floodplainsbydesign.org
X-WR-CALDESC:Events for Floodplains by Design
REFRESH-INTERVAL;VALUE=DURATION:PT1H
X-Robots-Tag:noindex
X-PUBLISHED-TTL:PT1H
BEGIN:VTIMEZONE
TZID:America/Los_Angeles
BEGIN:DAYLIGHT
TZOFFSETFROM:-0800
TZOFFSETTO:-0700
TZNAME:PDT
DTSTART:20210314T100000
END:DAYLIGHT
BEGIN:STANDARD
TZOFFSETFROM:-0700
TZOFFSETTO:-0800
TZNAME:PST
DTSTART:20211107T090000
END:STANDARD
BEGIN:DAYLIGHT
TZOFFSETFROM:-0800
TZOFFSETTO:-0700
TZNAME:PDT
DTSTART:20220313T100000
END:DAYLIGHT
BEGIN:STANDARD
TZOFFSETFROM:-0700
TZOFFSETTO:-0800
TZNAME:PST
DTSTART:20221106T090000
END:STANDARD
BEGIN:DAYLIGHT
TZOFFSETFROM:-0800
TZOFFSETTO:-0700
TZNAME:PDT
DTSTART:20230312T100000
END:DAYLIGHT
BEGIN:STANDARD
TZOFFSETFROM:-0700
TZOFFSETTO:-0800
TZNAME:PST
DTSTART:20231105T090000
END:STANDARD
END:VTIMEZONE
BEGIN:VEVENT
DTSTART;TZID=America/Los_Angeles:20220303T120000
DTEND;TZID=America/Los_Angeles:20220303T130000
DTSTAMP:20260421T065615
CREATED:20220214T224215Z
LAST-MODIFIED:20220215T172619Z
UID:5635-1646308800-1646312400@floodplainsbydesign.org
SUMMARY:Lunch & Learn: Unexpected Challenges and How to Overcome Them
DESCRIPTION:The Culture & Capacity Action Group is pleased to announce that we’re launching a new\, monthly Lunch & Learn Series on March 3rd.\n\n\n\n\n\nAbout this event\n\n\nThe Floodplains by Design Culture & Capacity Action Group* is pleased to announce that we’re launching a new\, monthly Lunch & Learn Series on March 3rd from 12pm – 1pm. The first topic we’ll cover is: Unexpected Challenges and How to Overcome Them. Come hear three Floodplains by Design practitioners share stories about unexpected challenges they’ve encountered implementing projects\, and how they worked their way through it. You will then be invited in a small group to share an unexpected challenge you faced and how you navigated it and hear from your colleagues. \nThe new Culture and Capacity Lunch & Learn Series will focus for the next six months on project and program management challenges\, tools to make management more efficient\, and processes to help build trust within the integrated floodplain management framework. Each month starting in March\, we will host a 1-hour informal virtual meeting over lunch\, featuring speakers from various FbD projects across the state as well as outside experts. \nIf you want to learn more about the Lunch & Learn Series\, sign up\, or share ideas for upcoming topics\, please contact Allan Warren (awarren@b-e-f.org)\,or Carol Macilroy\, (cmacilroy@gmail.com). \nThu Mar 3\, 2022 12pm – 1pm Pacific Time – Los Angeles \n*The Culture and Capacity Action Group works to nurture and develop skills and capacity across the Floodplains by Design network to implement Integrated Floodplain Management
URL:https://floodplainsbydesign.org/event/lunch-learn-unexpected-challenges-and-how-to-overcome-them/
CATEGORIES:Events
END:VEVENT
END:VCALENDAR