BEGIN:VCALENDAR
VERSION:2.0
PRODID:-//Floodplains by Design - ECPv6.15.20//NONSGML v1.0//EN
CALSCALE:GREGORIAN
METHOD:PUBLISH
X-WR-CALNAME:Floodplains by Design
X-ORIGINAL-URL:https://floodplainsbydesign.org
X-WR-CALDESC:Events for Floodplains by Design
REFRESH-INTERVAL;VALUE=DURATION:PT1H
X-Robots-Tag:noindex
X-PUBLISHED-TTL:PT1H
BEGIN:VTIMEZONE
TZID:America/Los_Angeles
BEGIN:DAYLIGHT
TZOFFSETFROM:-0800
TZOFFSETTO:-0700
TZNAME:PDT
DTSTART:20200308T100000
END:DAYLIGHT
BEGIN:STANDARD
TZOFFSETFROM:-0700
TZOFFSETTO:-0800
TZNAME:PST
DTSTART:20201101T090000
END:STANDARD
BEGIN:DAYLIGHT
TZOFFSETFROM:-0800
TZOFFSETTO:-0700
TZNAME:PDT
DTSTART:20210314T100000
END:DAYLIGHT
BEGIN:STANDARD
TZOFFSETFROM:-0700
TZOFFSETTO:-0800
TZNAME:PST
DTSTART:20211107T090000
END:STANDARD
BEGIN:DAYLIGHT
TZOFFSETFROM:-0800
TZOFFSETTO:-0700
TZNAME:PDT
DTSTART:20220313T100000
END:DAYLIGHT
BEGIN:STANDARD
TZOFFSETFROM:-0700
TZOFFSETTO:-0800
TZNAME:PST
DTSTART:20221106T090000
END:STANDARD
END:VTIMEZONE
BEGIN:VEVENT
DTSTART;TZID=America/Los_Angeles:20210429T130000
DTEND;TZID=America/Los_Angeles:20210429T150000
DTSTAMP:20260422T014902
CREATED:20210414T221042Z
LAST-MODIFIED:20210414T221042Z
UID:4221-1619701200-1619708400@floodplainsbydesign.org
SUMMARY:FbD Tribal Training & Workshop Series
DESCRIPTION:Canoe racing at the annual Makah Days celebration in Neah Bay\, 2018. Photo by Cameron Karsten \nWe are pleased to host an exciting three-part training for up to 25 non-tribal floodplain practitioners and leaders (i.e. state\, county\, federal\, non-profit staff and non-tribal member tribal staff ) who are interested in deepening their competency and capacity to engage and partner with tribes across the State. We are extremely pleased to partner with The Whitener Group\, a tribally owned consultant team\, who will be hosting the training series. \nIn three online trainings (April 29th 1:00-3:00/2 hrs\, May 13th 1:00-2:30/1.5 hrs\, and May 27th 1:00-2:30/1.5 hrs)\, participants will focus on expanding their knowledge of the foundations of federal Indian law\, local tribal history\, and tribal governments in Washington today. The training will be a mix of presentations\, self-directed learning and facilitated group discussions. Participants will also conduct their own research on a local tribe of their choosing and participate in a facilitated dialogue on the results of that research. \nWe ask that registrants make a firm commitment to all three sessions and their own research time. So come prepared to “roll up your sleeves” for a rare chance for a meaningful dive into working with Washington State Tribes. \nYour workshop hosts will be Ron Whitener\, Bob Whitener and Jennifer Whitener Ulrich of The Whitener Group. To learn more about the trainers\, check out their bios. \nSpace is limited to a max of 25 people and not all that register will be accepted. Please register by April 20th COB to be considered. TNC will contact you the by April 26th on whether or not you have been confirmed. Please reach out to Heather Cole: heather.cole@tnc.org for questions or for follow-up. \nRegister here!
URL:https://floodplainsbydesign.org/event/fbd-tribal-training-workshop-series/2021-04-29/
CATEGORIES:Events
ATTACH;FMTTYPE=image/png:https://floodplainsbydesign.org/wp-content/uploads/2021/04/3.png
END:VEVENT
END:VCALENDAR