BEGIN:VCALENDAR
VERSION:2.0
PRODID:-//Floodplains by Design - ECPv6.15.20//NONSGML v1.0//EN
CALSCALE:GREGORIAN
METHOD:PUBLISH
X-WR-CALNAME:Floodplains by Design
X-ORIGINAL-URL:https://floodplainsbydesign.org
X-WR-CALDESC:Events for Floodplains by Design
REFRESH-INTERVAL;VALUE=DURATION:PT1H
X-Robots-Tag:noindex
X-PUBLISHED-TTL:PT1H
BEGIN:VTIMEZONE
TZID:America/Los_Angeles
BEGIN:DAYLIGHT
TZOFFSETFROM:-0800
TZOFFSETTO:-0700
TZNAME:PDT
DTSTART:20240310T100000
END:DAYLIGHT
BEGIN:STANDARD
TZOFFSETFROM:-0700
TZOFFSETTO:-0800
TZNAME:PST
DTSTART:20241103T090000
END:STANDARD
BEGIN:DAYLIGHT
TZOFFSETFROM:-0800
TZOFFSETTO:-0700
TZNAME:PDT
DTSTART:20250309T100000
END:DAYLIGHT
BEGIN:STANDARD
TZOFFSETFROM:-0700
TZOFFSETTO:-0800
TZNAME:PST
DTSTART:20251102T090000
END:STANDARD
BEGIN:DAYLIGHT
TZOFFSETFROM:-0800
TZOFFSETTO:-0700
TZNAME:PDT
DTSTART:20260308T100000
END:DAYLIGHT
BEGIN:STANDARD
TZOFFSETFROM:-0700
TZOFFSETTO:-0800
TZNAME:PST
DTSTART:20261101T090000
END:STANDARD
END:VTIMEZONE
BEGIN:VEVENT
DTSTART;TZID=America/Los_Angeles:20250206T120000
DTEND;TZID=America/Los_Angeles:20250206T130000
DTSTAMP:20260419T074741
CREATED:20230216T200309Z
LAST-MODIFIED:20250127T175856Z
UID:370061-1738843200-1738846800@floodplainsbydesign.org
SUMMARY:Lessons from the Tulalip Tribes' Conservation Work in the Snohomish Basin
DESCRIPTION:Join us on Thursday\, February 6th from 12 – 1pm for an insightful lunch and learn with Brett Shattuck and Joe Sambataro\, two leaders in conservation efforts with the Tulalip Tribes\, as they share their experiences and insights from a recent floodplain acquisition project in the Snohomish Basin at the confluence of the Skykomish and Snoqualmie Rivers. This session offers a deep dive into the acquisition strategies\, challenges\, and lessons learned during their work to protect and restore in the future a critical floodplain area. This session will also explore the broader significance of riparian conservation projects and the importance of long-term\, scalable funding strategies.\n \nJoe Sambataro Bio \nJoe Sambataro is Conservation Advisor in the Restoration\, Acquisition and Stewardship Program at Tulalip Tribes with the primary role of managing acquisition projects and strategies of natural and cultural resources in Tulalip Tribes’ Usual and Accustomed areas\, including upland forestland\, floodplain\, shoreline\, and estuaries. Joe has been at Tulalip Tribes since November 2023 and brings over 20 years of experience in conservation acquisitions\, multi-partner collaborations\, funding/financing\, and land management.  \nBrett Shattuck Bio \nBrett Shattuck is the Restoration\, Acquisition and Stewardship Program Manager for the Tulalip Tribe’s Natural Resources Department and  has worked for over 17 years primarily in the Snohomish and Stillaguamish River Basins from the Cascade Mountains to the Puget Sound nearshore on various scales of restoration projects. His current focus is protection and restoration of natural riverine and floodplain processes through land conservation and habitat connectivity. \nIf you would like to explore some of the topics and themes that emerged from our 2023 Input Gathering\, you can view the themes here. \nYou can view all the past Lunch & Learn recordings and the associated slidedecks on our Culture & Capacity Action Group page here. \n\nAs always\, we welcome feedback and ideas for upcoming topics so please don’t hesitate to reach out to myself (Allan Warren awarren@b-e-f.org)\, Carol MacIlroy (cmacilroy@gmail.com)\, Lisa Nelson\, (lnel461@ecy.wa.gov) or Matt Gerlach\, (mger461@ecy.wa.gov). \nZoom Link: https://us02web.zoom.us/j/2125469094  \nPasscode: 1234
URL:https://floodplainsbydesign.org/event/monthly-lunch-learn-series-2023-04-06-2023-12-07-2024-01-04-2025-02-06/
LOCATION:https://us02web.zoom.us/j/2125469094
END:VEVENT
END:VCALENDAR