BEGIN:VCALENDAR
VERSION:2.0
PRODID:-//Floodplains by Design - ECPv6.15.20//NONSGML v1.0//EN
CALSCALE:GREGORIAN
METHOD:PUBLISH
X-ORIGINAL-URL:https://floodplainsbydesign.org
X-WR-CALDESC:Events for Floodplains by Design
REFRESH-INTERVAL;VALUE=DURATION:PT1H
X-Robots-Tag:noindex
X-PUBLISHED-TTL:PT1H
BEGIN:VTIMEZONE
TZID:America/Los_Angeles
BEGIN:DAYLIGHT
TZOFFSETFROM:-0800
TZOFFSETTO:-0700
TZNAME:PDT
DTSTART:20200308T100000
END:DAYLIGHT
BEGIN:STANDARD
TZOFFSETFROM:-0700
TZOFFSETTO:-0800
TZNAME:PST
DTSTART:20201101T090000
END:STANDARD
BEGIN:DAYLIGHT
TZOFFSETFROM:-0800
TZOFFSETTO:-0700
TZNAME:PDT
DTSTART:20210314T100000
END:DAYLIGHT
BEGIN:STANDARD
TZOFFSETFROM:-0700
TZOFFSETTO:-0800
TZNAME:PST
DTSTART:20211107T090000
END:STANDARD
BEGIN:DAYLIGHT
TZOFFSETFROM:-0800
TZOFFSETTO:-0700
TZNAME:PDT
DTSTART:20220313T100000
END:DAYLIGHT
BEGIN:STANDARD
TZOFFSETFROM:-0700
TZOFFSETTO:-0800
TZNAME:PST
DTSTART:20221106T090000
END:STANDARD
END:VTIMEZONE
BEGIN:VEVENT
DTSTART;TZID=America/Los_Angeles:20211215T120000
DTEND;TZID=America/Los_Angeles:20211215T120000
DTSTAMP:20260421T132003
CREATED:20211122T174300Z
LAST-MODIFIED:20211122T174300Z
UID:4907-1639569600-1639569600@floodplainsbydesign.org
SUMMARY:Increasing Efficiency in Permitting Ecol. Restoration in Flood Hazard Areas\, Webinar 2
DESCRIPTION:Increasing Efficiency in Permitting Ecol. Restoration in Flood Hazard Areas\, webinar 2 – Where might there be flexibility in permitting systems (e.g. via interpretation or additional support) to address challenges in the mid-term? \nhttps://www.eventbrite.com/e/increasing-efficiency-in-permitting-ecol-restoration-in-flood-hazard-areas-tickets-202642357747
URL:https://floodplainsbydesign.org/event/increasing-efficiency-in-permitting-ecol-restoration-in-flood-hazard-areas-webinar-2/
CATEGORIES:Events
END:VEVENT
END:VCALENDAR