BEGIN:VCALENDAR
VERSION:2.0
PRODID:-//Floodplains by Design - ECPv6.15.20//NONSGML v1.0//EN
CALSCALE:GREGORIAN
METHOD:PUBLISH
X-ORIGINAL-URL:https://floodplainsbydesign.org
X-WR-CALDESC:Events for Floodplains by Design
REFRESH-INTERVAL;VALUE=DURATION:PT1H
X-Robots-Tag:noindex
X-PUBLISHED-TTL:PT1H
BEGIN:VTIMEZONE
TZID:America/Los_Angeles
BEGIN:DAYLIGHT
TZOFFSETFROM:-0800
TZOFFSETTO:-0700
TZNAME:PDT
DTSTART:20200308T100000
END:DAYLIGHT
BEGIN:STANDARD
TZOFFSETFROM:-0700
TZOFFSETTO:-0800
TZNAME:PST
DTSTART:20201101T090000
END:STANDARD
BEGIN:DAYLIGHT
TZOFFSETFROM:-0800
TZOFFSETTO:-0700
TZNAME:PDT
DTSTART:20210314T100000
END:DAYLIGHT
BEGIN:STANDARD
TZOFFSETFROM:-0700
TZOFFSETTO:-0800
TZNAME:PST
DTSTART:20211107T090000
END:STANDARD
BEGIN:DAYLIGHT
TZOFFSETFROM:-0800
TZOFFSETTO:-0700
TZNAME:PDT
DTSTART:20220313T100000
END:DAYLIGHT
BEGIN:STANDARD
TZOFFSETFROM:-0700
TZOFFSETTO:-0800
TZNAME:PST
DTSTART:20221106T090000
END:STANDARD
END:VTIMEZONE
BEGIN:VEVENT
DTSTART;TZID=America/Los_Angeles:20211210T110000
DTEND;TZID=America/Los_Angeles:20211210T140000
DTSTAMP:20260421T150425
CREATED:20211122T174102Z
LAST-MODIFIED:20211122T174102Z
UID:4903-1639134000-1639144800@floodplainsbydesign.org
SUMMARY:Steering Group Meeting
DESCRIPTION:Contact Kas Guillozet at kguillozet@b-e-f.org for more information.
URL:https://floodplainsbydesign.org/event/steering-group-meeting/
CATEGORIES:Meetings
END:VEVENT
END:VCALENDAR