BEGIN:VCALENDAR
VERSION:2.0
PRODID:-//Floodplains by Design - ECPv6.15.20//NONSGML v1.0//EN
CALSCALE:GREGORIAN
METHOD:PUBLISH
X-ORIGINAL-URL:https://floodplainsbydesign.org
X-WR-CALDESC:Events for Floodplains by Design
REFRESH-INTERVAL;VALUE=DURATION:PT1H
X-Robots-Tag:noindex
X-PUBLISHED-TTL:PT1H
BEGIN:VTIMEZONE
TZID:America/Los_Angeles
BEGIN:DAYLIGHT
TZOFFSETFROM:-0800
TZOFFSETTO:-0700
TZNAME:PDT
DTSTART:20200308T100000
END:DAYLIGHT
BEGIN:STANDARD
TZOFFSETFROM:-0700
TZOFFSETTO:-0800
TZNAME:PST
DTSTART:20201101T090000
END:STANDARD
BEGIN:DAYLIGHT
TZOFFSETFROM:-0800
TZOFFSETTO:-0700
TZNAME:PDT
DTSTART:20210314T100000
END:DAYLIGHT
BEGIN:STANDARD
TZOFFSETFROM:-0700
TZOFFSETTO:-0800
TZNAME:PST
DTSTART:20211107T090000
END:STANDARD
BEGIN:DAYLIGHT
TZOFFSETFROM:-0800
TZOFFSETTO:-0700
TZNAME:PDT
DTSTART:20220313T100000
END:DAYLIGHT
BEGIN:STANDARD
TZOFFSETFROM:-0700
TZOFFSETTO:-0800
TZNAME:PST
DTSTART:20221106T090000
END:STANDARD
END:VTIMEZONE
BEGIN:VEVENT
DTSTART;TZID=America/Los_Angeles:20210609T093000
DTEND;TZID=America/Los_Angeles:20210609T110000
DTSTAMP:20260422T000406
CREATED:20210414T221256Z
LAST-MODIFIED:20210520T192935Z
UID:4227-1623231000-1623236400@floodplainsbydesign.org
SUMMARY:Exploring Equity: Shifting our practices to center equity.
DESCRIPTION:Now more than ever\, people are taking time in their incredibly busy lives to understand how our work and communities can be more equitable. This workshop will explore concepts of equity and how using an equity-lens can further improve our work\, enrich our discussions\, and help us have deeper impact. Fara Mahesri and Nancy White will co-lead this important and timely conversation. \nRegister here.
URL:https://floodplainsbydesign.org/event/exploring-equity-shifting-our-practices-to-center-equity/
CATEGORIES:Events
ATTACH;FMTTYPE=image/png:https://floodplainsbydesign.org/wp-content/uploads/2021/04/Exploring-Equity-graphic.png
END:VEVENT
END:VCALENDAR